Workbook
Name スピルリスト1: _xlfn.ANCHORARRAY(プルダウンリスト・更新履歴!#REF!)
Name 解体業種: プルダウンリスト・更新履歴!$O$3:$O$5
Name 全業種: プルダウンリスト・更新履歴!$O$3:$O$31

Sheet 表紙
A1: =IF($BH$3=1,"（様式第一号）",IF($BH$3=2,"（様式第二号）","")) -> （様式第一号） | J1: =IF(OR(BI64>0,別表1!BM65>0,別表2!BM57>0,別表3!BN65>0,工程表!BR36>0),"【入力中】各シートの着色セルの入力及び入力エラーの解消を行ってください。 本表示が消えると提出可能です。","") -> 【入力中】各シートの着色セルの入力及び入力エラーの解消を行ってください。 本表示が消えると提出可能です。 | BF1: （Ａ４） | BI1: =COUNTIF(A3:BF63,"*【入力エラー】*")>0 -> FALSE | BJ1: 本ファイルは、岐阜県提出用 電子申請・書面申請共通様式(Ver R081005版)です。
BI2: ↑エラーメッセージがある場合TRUE | BJ2: 最初に表紙シートを全て入力し、その後、他のシートを入力してください。
A3: 届 出 書 | BH3: =VLOOKUP(A3,プルダウンリスト・更新履歴!A3:E5,5,FALSE) -> 1 | BJ3: 【入力上の注意】
BJ4: ・薄緑色で着色されたセルが入力対象です。
AU5: 令和 | AX5: 年 | BA5: 月 | BD5: 日 | BI5: =OR(AV5="",AY5="",BB5="") -> TRUE | BJ5: ・灰色の文字は入力例です。実際の内容を入力してください。
AJ6: =IF(OR(AV5="",AY5="",BB5="",DAY(DATE(AV5+2018,AY5,BB5))=BB5)=TRUE,"","【入力エラー】正しい日付を入力してください") | BJ6: ・「▼」が表示されるセルは、プルダウンから選択してください。
B7: 岐阜県知事 殿 | BJ7: ・チェックボックスは、該当する項目にチェックを付けてください。
BJ8: ・入力が完了したセルは、自動的に着色が解除されます。
AC9: フリガナ | AD9: マルマルカブシキガイシャ ダイヒョウトリシマリヤク ギフ タロウ | BI9: =AD9="マルマルカブシキガイシャ ダイヒョウトリシマリヤク ギフ タロウ" -> TRUE | BJ9: ・エラーメッセージが表示された場合は、内容を修正してください。
AC10: 発注者又は自主施工者の氏名 | AD10: 〈法人の場合〉○○株式会社 代表取締役 岐阜 太郎 〈個人の場合〉岐阜 太郎 | BI10: =AD10="〈法人の場合〉○○株式会社 代表取締役 岐阜 太郎 〈個人の場合〉岐阜 太郎" -> TRUE | BJ10: ・書面申請用に印刷する場合は、印刷前に以下にチェックを入れてください。
AC11: （法人にあっては商号又は名称及び代表者の氏名） | BH11: FALSE | BK11: 書面申請（チェックボックス欄を印字可能とする）
AI12: （郵便番号 | AJ12: 000-0000 | AO12: ） | AT12: 電話番号 | AU12: 000-000-0000 | BI12: =OR(AJ12="000-0000",AU12="000-000-0000") -> TRUE
AC13: 住所 | AD13: ○○県△▽市●○3-4-5 | BI13: =AD13="○○県△▽市●○3-4-5" -> TRUE
AB14: （転居予定先） | AI14: （郵便番号 | AJ14: 000-0000 | AO14: ） | AT14: 電話番号 | AU14: 000-000-0000 | BI14: =OR(AJ14="000-0000",AU14="000-000-0000") -> TRUE
AC15: 住所 | AD15: ■■県○○市○○▽1111 | BI15: =AD15="■■県○○市○○▽1111" -> TRUE
B17: ="建設工事に係る資材の再資源化等に関する法律"&IF($BH$3=1,"第10条第1項の規定により、下記のとおり届け出ます。",IF($BH$3=2,"第10条第2項の規定により、下記のとおり変更を届け出ます。","第42条第1項の規定により、下記のとおり報告します。")) -> 建設工事に係る資材の再資源化等に関する法律第10条第1項の規定により、下記のとおり届け出ます。
A19: 記
A20: １．工事の概要
B21: ①工事の名称 | J21: ○○住宅解体工事 | BI21: =J21="○○住宅解体工事" -> TRUE
B22: ②工事の場所 | J22: 〈市町村名〉 | R22: ○▲2-3-4 | BI22: =OR(J22="〈市町村名〉",R22="○▲2-3-4") -> TRUE
B23: ③工事の種類及び規模 | BI23: =AND(C24="□",C25="□",C26="□",C28="□") -> TRUE
C24: =IF(BH24=TRUE,"☑","□") -> □ | D24: 建築物に係る解体工事 | T24: 用途 | AF24: 階数 | AM24: 工事対象床面積の合計 | BE24: ㎡ | BI24: =IF(BH24=TRUE,OR(W24="",AI24="",AX24="")) -> FALSE
C25: =IF(BH25=TRUE,"☑","□") -> □ | D25: 建築物に係る新築又は増築の工事 | T25: 用途 | AF25: 階数 | AM25: 工事対象床面積の合計 | BE25: ㎡ | BI25: =IF(BH25=TRUE,OR(W25="",AI25="",AX25="")) -> FALSE
C26: =IF(BH26=TRUE,"☑","□") -> □ | D26: 建築物に係る新築工事等であって新築又は増築の工事に該当しないもの
T27: 用途 | AF27: 階数 | AM27: 請負代金 | AX27: 万円 | BI27: =IF(BH26=TRUE,OR(W27="",AI27="",AR27="")) -> FALSE
C28: =IF(BH28=TRUE,"☑","□") -> □ | D28: 建築物以外のものに係る解体工事又は新築工事等 | AM28: 請負代金 | AX28: 万円 | BI28: =IF(BH28=TRUE,AR28="") -> FALSE
B29: ④請負・自主施工の別 | N29: =IF(BH29=TRUE,"☑","□") -> □ | O29: 請負 | R29: =IF(BH30=TRUE,"☑","□") -> □ | S29: 自主施工 | X29: =IF(AND(BH29=TRUE,BH30=TRUE),"【入力エラー】「請負」と「自主施工」のいずれか一方をチェックしてください。","") | BI29: =COUNTIF(BH29:BH30,TRUE)=0 -> TRUE
A31: ２．元請業者（請負契約によらないで自ら施工する場合は記載不要）
V32: フリガナ | X32: ユウゲンガイシャマルバツコウギョウ ダイヒョウトリシマリヤク ギフ ジロウ | BI32: =IF($BH$29=TRUE,X32="ユウゲンガイシャマルバツコウギョウ ダイヒョウトリシマリヤク ギフ ジロウ") -> FALSE
B33: ①氏名（法人にあっては商号又は名称及び代表者の氏名） | X33: 有限会社○×工業 代表取締役 岐阜 次郎 | BI33: =IF($BH$29=TRUE,X33="有限会社○×工業 代表取締役 岐阜 次郎") -> FALSE
L34: （郵便番号 | M34: 000-0000 | R34: ） | W34: 電話番号 | X34: 000-000-0000 | BI34: =IF($BH$29=TRUE,OR(M34="000-0000",X34="000-000-0000")) -> FALSE
B35: ②住所 | G35: ○○県△▽市●○3-4-5 | BI35: =IF($BH$29=TRUE,G35="○○県△▽市●○3-4-5") -> FALSE
B36: ③許可番号（登録番号）
C37: =IF(BH37=TRUE,"☑","□") -> □ | E37: 建設業の場合 | BI37: =IF($BH$29=TRUE,COUNTIF(BH37:BH40,TRUE)=0) -> FALSE
D38: 建設業許可 | O38: =IF(J38="","□大臣□知事",IF(J38="国土交通","☑大臣□知事","□大臣☑知事")) -> □大臣□知事 | V38: （ | Z38: － | AD38: ） | AN38: 号 | AP38: （ | AY38: 工事業） | BI38: =IF($BH$29=TRUE,IF(BH37=TRUE,OR(J38="",X38="",AB38="",AF38="",AR38="",S39=""))) -> FALSE
D39: 主任技術者(監理技術者)氏名 | AD39: =IF($AB$38="","",IF($AV$5-$AB$38<6,"","【入力エラー】許可年を確認してください")) | AQ39: =IF(AND(AR38<>"",BH24,BH25<>TRUE,BH26<>TRUE,BH28<>TRUE,ISNA(MATCH(AR38,{"土木","建築","解体"},0))),"【入力エラー】建築物の解体工事が可能な業種としてください。","")
C40: =IF(BH40=TRUE,"☑","□") -> □ | E40: 解体工事業の場合
D41: 解体工事業登録 | L41: 岐阜県 | Q41: 知事 | T41: （ | X41: ） | AE41: 号 | AH41: =IF($V$41="","",IF($AV$5-$V$41<6,"","【入力エラー】登録年を確認してください")) | BI41: =IF($BH$29=TRUE,IF(BH40=TRUE,OR(V41="",Z41="",L42=""))) -> FALSE
D42: 技術管理者氏名
C43: =IF(AND(BH37=TRUE,BH40=TRUE),"【入力エラー】「建設業」と「解体工事業」のいずれか一方をチェックしてください。","")
A44: ３．対象建設工事の元請業者から法第12条第１項の規定による説明を受けた年月日
C45: （請負契約によらないで自ら施工する場合は記載不要）
F46: 令和 | I46: 年 | L46: 月 | O46: 日 | Q46: =IF(M46="","",IF(DATE($AV$5+2018,$AY$5,$BB$5)>=DATE($G$46+2018,$J$46,$M$46),"","【入力エラー】届出年月日以前の日付としてください")) | BI46: =IF($BH$29=TRUE,OR(G46="",J46="",M46="")) -> FALSE
D47: =IF(OR(G46="",J46="",M46="",DAY(DATE(G46+2018,J46,M46))=M46)=TRUE,"","【入力エラー】正しい日付を入力してください")
A48: ４．分別解体等の計画等
E49: 建築物に係る解体工事については別表１
E50: 建築物に係る新築工事等については別表２
E51: 建築物以外のものに係る解体工事又は新築工事等については別表３
D52: により記載すること。
A54: ５．工程の概要 | AR54: =IF(OR(AU55="",AX55="",BA55="",DAY(DATE(AU55+2018,AX55,BA55))=BA55)=TRUE,"","【入力エラー】正しい日付を入力してください") | BI54: =B55="" -> TRUE
AQ55: =IF($BH$3=3,"（工事着手日）","（工事着手予定日）") -> （工事着手予定日） | AT55: 令和 | AW55: 年 | AZ55: 月 | BC55: 日 | BE55: =IF($BH$3=3,"",IF(BA55="","",IF(DATE($AV$5+2018,$AY$5,$BB$5)+7<=DATE($AU$55+2018,$AX$55,$BA$55),"","【入力エラー】届出年月日から７日目以降の日付としてください"))) | BI55: =OR(AU55="",AX55="",BA55="") -> TRUE
AQ56: （工事完了予定日） | AT56: 令和 | AW56: 年 | AZ56: 月 | BC56: 日 | BE56: =IF(BA56="","",IF(DATE($AU$56+2018,$AX$56,$BA$56)>=DATE($AU$55+2018,$AX$55,$BA$55),"","【入力エラー】工事着手予定日以降の日付としてください")) | BI56: =OR(AU56="",AX56="",BA56="") -> TRUE
A57: （できるだけ図面、表等を利用することとし、記載することができないときは、「別紙のとおり」と記載し、別紙を添付すること。）
A58: （注意） | AR58: =IF(OR(AU56="",AX56="",BA56="",DAY(DATE(AU56+2018,AX56,BA56))=BA56)=TRUE,"","【入力エラー】正しい日付を入力してください")
A59: １ □欄には、該当箇所に「レ」を付すこと。
A60: ２ 届出書には、対象建設工事に係る建築物等の設計図又は現状を示す明瞭な写真を添付すること。
R61: =IF($BH$3=2,"当初届出年月日","") | AC61: =IF($BH$3=2,"令和","") | AF61: =IF($BH$3=2,"年","") | AI61: =IF($BH$3=2,"月","") | AL61: =IF($BH$3=2,"日","") | AN61: =IF(OR(AD61="",AG61="",AJ61="",DAY(DATE(AD61+2018,AG61,AJ61))=AJ61)=TRUE,"","【入力エラー】正しい日付を入力してください") | BI61: =IF($BH$3=2,OR(AD61="",AG61="",AJ61="")) -> FALSE
A62: ※受付番号 | R62: =IF($BH$3=2,"変更箇所","") | BI62: =IF($BH$3=2,W61="") -> FALSE
BI63: ↑変更届出書のみ
BI64: =COUNTIF(BI1:BI63,TRUE) -> 14

Sheet 別表1
A1: 別表１ | BF1: （Ａ４） | BM1: =COUNTIF(BN11:BN64,"*【入力エラー】*")>0 -> FALSE
AQ2: 建築物に係る解体工事 | BM2: ↑エラーメッセージがある場合TRUE
A3: 分別解体等の計画等 | BN3: 【入力上の注意】
A4: 建築物の構造 | P4: =IF(BH4=TRUE,"☑","□") -> □ | Q4: 木造 | V4: =IF(BI4=TRUE,"☑","□") -> □ | W4: 鉄骨鉄筋コンクリート造 | AM4: =IF(BJ4=TRUE,"☑","□") -> □ | AN4: 鉄筋コンクリート造 | BM4: =COUNTIF(BH4:BJ5,TRUE)=0 -> TRUE | BN4: ・薄緑色で着色されたセルが入力対象です。
P5: =IF(BH5=TRUE,"☑","□") -> □ | Q5: 鉄骨造 | W5: =IF(BI5=TRUE,"☑","□") -> □ | X5: コンクリートブロック造 | AN5: =IF(BJ5=TRUE,"☑","□") -> □ | AS5: その他( | BF5: ) | BM5: =IF(BJ5=TRUE,AT5="") -> FALSE | BN5: ・灰色の文字は入力例です。実際の内容を入力してください。
A6: 建築物 | F6: 建築物の状況 | P6: 築年数 | X6: 年、棟数 | AF6: 棟 | BM6: =AND(U6="",AD6="") -> TRUE | BN6: ・チェックボックスは、該当する項目にチェックを付けてください。
A7: に | P7: その他( | AR7: ) | BN7: ・入力が完了したセルは、自動的に着色が解除されます。
A8: 関する | F8: 周辺状況 | P8: 周辺にある施設 | Z8: =IF(BH8=TRUE,"☑","□") -> □ | AA8: 住宅 | AD8: =IF(BI8=TRUE,"☑","□") -> □ | AE8: 商業施設 | AK8: =IF(BJ8=TRUE,"☑","□") -> □ | AL8: 学校 | AO8: =IF(BK8=TRUE,"☑","□") -> □ | AP8: 病院 | AS8: =IF(BL8=TRUE,"☑","□") -> □ | AT8: その他( | BF8: ) | BM8: =COUNTIF(BH8:BL8,TRUE)=0 -> TRUE | BN8: ・エラーメッセージが表示された場合は、内容を修正してください。
A9: 調査の | P9: 敷地境界との最短距離 約 | AI9: ｍ | BM9: =IF(BL8=TRUE,AY8="") -> FALSE | BN9: ・右上に赤い印のあるセルを選択すると補足説明が表示されます。
A10: 結果 | P10: その他( | AR10: ) | BM10: =AND(AF9="") -> TRUE | BN10: ・無着色の「その他」及び「備考」欄は、必要に応じて入力してください。
P11: 建築物に関する調査の結果 | AN11: 工事着手前に実施する措置の内容
F12: 作業場所 | P12: 作業場所 | W12: =IF(BH12=TRUE,"☑","□") -> □ | X12: 十分 | AB12: =IF(BI12=TRUE,"☑","□") -> □ | AC12: 不十分 | AN12: 〈入力例〉隣地使用の承諾済、道路使用許可済 | BM12: =COUNTIF(BH12:BI12,TRUE)=0 -> TRUE | BN12: =IF(AND($BH$12=TRUE,$BI$12=TRUE),"【入力エラー】「十分」と「不十分」のいずれか一方をチェックしてください。","")
P13: その他( | AM13: ) | BM13: =AN12="〈入力例〉隣地使用の承諾済、道路使用許可済" -> TRUE
F14: 搬出経路 | P14: 障害物 | U14: =IF(BH14=TRUE,"☑","□") -> □ | V14: 有( | AE14: ) | AG14: =IF(BI14=TRUE,"☑","□") -> □ | AH14: 無 | AN14: 〈入力例〉交通整理員の常駐を計画、搬出用に２トントラックを準備 | BM14: =COUNTIF(BH14:BI14,TRUE)=0 -> TRUE | BN14: =IF(AND(BH14=TRUE,BI14=TRUE),"【入力エラー】「有」と「無」のいずれか一方をチェックしてください。","")
A15: 建築物 | P15: 前面道路の幅員 約 | AE15: ｍ | BM15: =IF(BH14=TRUE,X14="") -> FALSE
A16: に | P16: 通学路 | U16: =IF(BH16=TRUE,"☑","□") -> □ | V16: 有 | X16: =IF(BI16=TRUE,"☑","□") -> □ | Y16: 無 | BM16: =AND(AB15="") -> TRUE | BN16: =IF(AND(BH16=TRUE,BI16=TRUE),"【入力エラー】「有」と「無」のいずれか一方をチェックしてください。","")
A17: 関する | P17: その他( | AM17: ) | BM17: =COUNTIF(BH16:BI16,TRUE)=0 -> TRUE
A18: 調査の | F18: 残存物品 | P18: =IF(BH18=TRUE,"☑","□") -> □ | Q18: 有 | S18: ( | AM18: ) | AN18: 〈入力例〉工事着手までに搬出する | BM18: =AN14="〈入力例〉交通整理員の常駐を計画、搬出用に２トントラックを準備" -> TRUE | BN18: =IF(AND(BH18=TRUE,BI18=TRUE),"【入力エラー】「有」と「無」のいずれか一方をチェックしてください。","")
A19: 結果 | P19: =IF(BI18=TRUE,"☑","□") -> □ | Q19: 無 | BM19: =COUNTIF(BH18:BI18,TRUE)=0 -> TRUE
A20: 及び | F20: 特定建設資材への | P20: =IF(BH20=TRUE,"☑","□") -> □ | Q20: 有 | S20: ( | AM20: ) | AN20: 〈入力例〉飛散防止対策を行う | BM20: =IF(BH18=TRUE,T18="") -> FALSE | BN20: =IF(AND(BH20=TRUE,BI20=TRUE),"【入力エラー】「有」と「無」のいずれか一方をチェックしてください。","")
A21: 工事 | F21: 付着物(石綿以外) | P21: =IF(BI20=TRUE,"☑","□") -> □ | Q21: 無 | BM21: =IF(BH18=TRUE,AN18="〈入力例〉工事着手までに搬出する") -> FALSE
A22: 着手前 | F22: 他法令関係 | I22: 石綿 | P22: =IF(BH22=TRUE,"☑","□") -> □ | Q22: 有 | S22: 特定建設資材への付着( | AG22: =IF(BJ22=TRUE,"☑","□") -> □ | AH22: 有 | AJ22: =IF(BK22=TRUE,"☑","□") -> □ | AK22: 無 | AM22: ) | AN22: 〈入力例〉関係法令の届出済、石綿作業主任者を選任済 | BM22: =COUNTIF(BH20:BI20,TRUE)=0 -> TRUE | BN22: =IF(AND(BJ22=TRUE,BK22=TRUE),"【入力エラー】「有」と「無」のいずれか一方をチェックしてください。","")
A23: に実施 | I23: (大気汚染防止法・安全衛生法石綿則) | Q23: =IF(BH23=TRUE,"☑","□") -> □ | R23: 吹付け石綿 | BM23: =IF(BH20=TRUE,T20="") -> FALSE
A24: する | Q24: =IF(BH24=TRUE,"☑","□") -> □ | R24: 石綿含有保温材、断熱材、耐火被覆材等 | BM24: =IF(BH20=TRUE,AN20="〈入力例〉飛散防止対策を行う") -> FALSE
A25: 措置の | Q25: =IF(BH25=TRUE,"☑","□") -> □ | R25: 石綿含有成形板等 | BM25: =COUNTIF(BH22:BI22,TRUE)=0 -> TRUE
A26: 内容 | Q26: =IF(BH26=TRUE,"☑","□") -> □ | R26: 石綿含有仕上げ塗材 | BM26: =IF(BH22=TRUE,COUNTIF(BJ22:BK22,TRUE)=0) -> FALSE
P27: =IF(BI22=TRUE,"☑","□") -> □ | Q27: 無 | BM27: =IF(BH22=TRUE,COUNTIF(BH23:BH26,TRUE)=0) -> FALSE | BN27: =IF(AND(BH22=TRUE,BI22=TRUE),"【入力エラー】「有」と「無」のいずれか一方をチェックしてください。","")
I28: フロン | P28: =IF(BH28=TRUE,"☑","□") -> □ | Q28: 有 | S28: (業務用のエアコン・冷凍冷蔵機器 | AN28: 〈入力例〉フロン類回収済 | BM28: =IF(BH22=TRUE,AN22="〈入力例〉関係法令の届出済、石綿作業主任者を選任済") -> FALSE | BN28: =IF(AND(BH28=TRUE,BI28=TRUE),"【入力エラー】「有」と「無」のいずれか一方をチェックしてください。","")
I29: (フロン排出 | Q29: のうちフロン類が使われているもの) | BM29: =COUNTIF(BH28:BI28,TRUE)=0 -> TRUE
I30: 抑制法) | P30: =IF(BI28=TRUE,"☑","□") -> □ | Q30: 無 | BM30: =IF(BH28=TRUE,AN28="〈入力例〉フロン類回収済") -> FALSE
F31: その他
A32: 工程ごとの作業内容及び解体方法 | C32: 工程 | X32: 作業内容 | AR32: 分別解体等の方法
C33: ①建築設備・内装材等 | X33: 建築設備・内装材等の取り外し | AR33: =IF(BH33=TRUE,"☑","□") -> □ | AS33: 手作業 | BM33: =IF(BH34=TRUE,COUNTIF(BH33:BI33,TRUE)=0) -> FALSE | BN33: =IF(AND(BH33=TRUE,BI33=TRUE),"【入力エラー】「手作業」と「手作業・機械作業の併用」のいずれか一方をチェックしてください。","")
X34: =IF(BH34=TRUE,"☑","□") -> □ | Y34: 有 | AB34: =IF(BI34=TRUE,"☑","□") -> □ | AC34: 無 | AR34: =IF(BI33=TRUE,"☑","□") -> □ | AS34: 手作業・機械作業の併用 | BM34: =COUNTIF(BH34:BI34,TRUE)=0 -> TRUE | BN34: =IF(AND(BH34=TRUE,BI34=TRUE),"【入力エラー】「有」と「無」のいずれか一方をチェックしてください。","")
AR35: 併用の場合の理由 | BM35: =IF(BI33=TRUE,AS36="") -> FALSE
AR36: ( | BF36: )
C37: ②屋根ふき材 | X37: 屋根ふき材の取り外し | AR37: =IF(BH37=TRUE,"☑","□") -> □ | AS37: 手作業 | BM37: =IF(BH38=TRUE,COUNTIF(BH37:BI37,TRUE)=0) -> FALSE | BN37: =IF(AND(BH37=TRUE,BI37=TRUE),"【入力エラー】「手作業」と「手作業・機械作業の併用」のいずれか一方をチェックしてください。","")
X38: =IF(BH38=TRUE,"☑","□") -> □ | Y38: 有 | AB38: =IF(BI38=TRUE,"☑","□") -> □ | AC38: 無 | AR38: =IF(BI37=TRUE,"☑","□") -> □ | AS38: 手作業・機械作業の併用 | BM38: =COUNTIF(BH38:BI38,TRUE)=0 -> TRUE | BN38: =IF(AND(BH38=TRUE,BI38=TRUE),"【入力エラー】「有」と「無」のいずれか一方をチェックしてください。","")
AR39: 併用の場合の理由 | BM39: =IF(BI37=TRUE,AS40="") -> FALSE
AR40: ( | BF40: )
C41: ③外装材・上部構造部分 | X41: 外装材・上部構造部分の取り壊し | AR41: =IF(BH41=TRUE,"☑","□") -> □ | AS41: 手作業 | BM41: =IF(BH42=TRUE,COUNTIF(BH41:BI41,TRUE)=0) -> FALSE | BN41: =IF(AND(BH41=TRUE,BI41=TRUE),"【入力エラー】「手作業」と「手作業・機械作業の併用」のいずれか一方をチェックしてください。","")
X42: =IF(BH42=TRUE,"☑","□") -> □ | Y42: 有 | AB42: =IF(BI42=TRUE,"☑","□") -> □ | AC42: 無 | AR42: =IF(BI41=TRUE,"☑","□") -> □ | AS42: 手作業・機械作業の併用 | BM42: =COUNTIF(BH42:BI42,TRUE)=0 -> TRUE | BN42: =IF(AND(BH42=TRUE,BI42=TRUE),"【入力エラー】「有」と「無」のいずれか一方をチェックしてください。","")
C43: ④基礎・基礎ぐい | X43: 基礎・基礎ぐいの取り壊し | AR43: =IF(BH43=TRUE,"☑","□") -> □ | AS43: 手作業 | BM43: =IF(BH44=TRUE,COUNTIF(BH43:BI43,TRUE)=0) -> FALSE | BN43: =IF(AND(BH43=TRUE,BI43=TRUE),"【入力エラー】「手作業」と「手作業・機械作業の併用」のいずれか一方をチェックしてください。","")
X44: =IF(BH44=TRUE,"☑","□") -> □ | Y44: 有 | AB44: =IF(BI44=TRUE,"☑","□") -> □ | AC44: 無 | AR44: =IF(BI43=TRUE,"☑","□") -> □ | AS44: 手作業・機械作業の併用 | BM44: =COUNTIF(BH44:BI44,TRUE)=0 -> TRUE | BN44: =IF(AND(BH44=TRUE,BI44=TRUE),"【入力エラー】「有」と「無」のいずれか一方をチェックしてください。","")
C45: ⑤その他 | X45: その他の取り壊し | AR45: =IF(BH45=TRUE,"☑","□") -> □ | AS45: 手作業 | BM45: =IF(BH46=TRUE,COUNTIF(BH45:BI45,TRUE)=0) -> FALSE | BN45: =IF(AND(BH45=TRUE,BI45=TRUE),"【入力エラー】「手作業」と「手作業・機械作業の併用」のいずれか一方をチェックしてください。","")
C46: ( | W46: ) | X46: =IF(BH46=TRUE,"☑","□") -> □ | Y46: 有 | AB46: =IF(BI46=TRUE,"☑","□") -> □ | AC46: 無 | AR46: =IF(BI45=TRUE,"☑","□") -> □ | AS46: 手作業・機械作業の併用 | BM46: =COUNTIF(BH46:BI46,TRUE)=0 -> TRUE | BN46: =IF(OR(AND(BJ45=TRUE,BK45=TRUE),AND(BH46=TRUE,BI46=TRUE)),"【入力エラー】「有」と「無」のいずれか一方をチェックしてください。","")
A47: 工事の工程の順序 | X47: =IF(BH47=TRUE,"☑","□") -> □ | Y47: 上の工程における①→②→③→④の順序 | BM47: =IF(BH46=TRUE,D46="") -> FALSE | BN47: =IF(AND(BH47=TRUE,BI47=TRUE),"【入力エラー】「上の工程…の順序」と「その他」のいずれか一方をチェックしてください。","")
X48: =IF(BI47=TRUE,"☑","□") -> □ | Y48: その他( | AV48: ) | BM48: =COUNTIF(BH47:BI47,TRUE)=0 -> TRUE
X49: その他の場合の理由( | BF49: ) | BM49: =IF(BI47=TRUE,OR(AD48="",AK49="")) -> FALSE
D50: 内装材に木材が含まれる場合 | X50: ①の工程における木材の分別に支障となる建設資材の事前の取り外し | BM50: =COUNTIF(BH50:BI50,TRUE)=0 -> TRUE | BN50: =IF(AND(BH50=TRUE,BI50=TRUE),"【入力エラー】「含まれる」と「含まれない」のいずれか一方をチェックしてください。","")
D51: =IF(BH50=TRUE,"☑","□") -> □ | E51: 含まれる | K51: =IF(BI50=TRUE,"☑","□") -> □ | L51: 含まれない | X51: =IF(BH51=TRUE,"☑","□") -> □ | Y51: 可 | AB51: =IF(BI51=TRUE,"☑","□") -> □ | AC51: 不可 | BM51: =IF(BH50=TRUE,COUNTIF(BH51:BI51,TRUE)=0) -> FALSE | BN51: =IF(AND(BH51=TRUE,BI51=TRUE),"【入力エラー】「可」と「不可」のいずれか一方をチェックしてください。","")
X52: 不可の場合の理由( | BF52: ) | BM52: =IF(BI51=TRUE,AJ52="") -> FALSE
A53: 建築物に用いられた建設資材の量の見込み | AC53: トン | BM53: =AND(X53="") -> TRUE
A54: 廃棄物発生見込量 | C54: 特定建設資材廃棄物の種類ごとの量の見込み及びその発生が見込まれる建築物の部分 | X54: 種類 | AI54: 量の見込み | AR54: 発生が見込まれる部分(注)
X55: コンクリート塊 | AR55: =IF(BH55=TRUE,"☑","□") -> □ | AS55: ① | AV55: =IF(BI55=TRUE,"☑","□") -> □ | AW55: ② | AZ55: =IF(BJ55=TRUE,"☑","□") -> □ | BA55: ③ | BD55: =IF(BK55=TRUE,"☑","□") -> □ | BE55: ④ | BM55: =AND(AI55="") -> TRUE
AO56: トン | AR56: =IF(BH56=TRUE,"☑","□") -> □ | AS56: ⑤ | BM56: =IF(AI55>0,COUNTIF(BH55:BK56,TRUE)=0) -> FALSE
X57: アスファルト・ | AR57: =IF(BH57=TRUE,"☑","□") -> □ | AS57: ① | AV57: =IF(BI57=TRUE,"☑","□") -> □ | AW57: ② | AZ57: =IF(BJ57=TRUE,"☑","□") -> □ | BA57: ③ | BD57: =IF(BK57=TRUE,"☑","□") -> □ | BE57: ④ | BM57: =AND(AI57="") -> TRUE
X58: コンクリート塊 | AO58: トン | AR58: =IF(BH58=TRUE,"☑","□") -> □ | AS58: ⑤ | BM58: =IF(AI57>0,COUNTIF(BH57:BK58,TRUE)=0) -> FALSE
X59: 建設発生木材 | AR59: =IF(BH59=TRUE,"☑","□") -> □ | AS59: ① | AV59: =IF(BI59=TRUE,"☑","□") -> □ | AW59: ② | AZ59: =IF(BJ59=TRUE,"☑","□") -> □ | BA59: ③ | BD59: =IF(BK59=TRUE,"☑","□") -> □ | BE59: ④ | BM59: =AND(AI59="") -> TRUE
AO60: トン | AR60: =IF(BH60=TRUE,"☑","□") -> □ | AS60: ⑤ | BM60: =IF(AI59>0,COUNTIF(BH59:BK60,TRUE)=0) -> FALSE
C61: (注) ①建築設備・内装材等 ②屋根ふき材 ③外装材・上部構造部分 ④基礎・基礎ぐい ⑤その他
A62: 備考
A64: □欄には、該当箇所に「レ」を付すこと。
BM65: =IF(表紙!BH24=TRUE,COUNTIF(BM1:BM64,TRUE),0) -> 0

Sheet 別表2
A1: 別表２ | BF1: （Ａ４） | BM1: =COUNTIF(BN11:BN56,"*【入力エラー】*")>0 -> FALSE
Z2: 建築物に係る新築工事等（新築・増築・修繕・模様替） | BM2: ↑エラーメッセージがある場合TRUE
A3: 分別解体等の計画等 | BN3: 【入力上の注意】
A4: 使用する特定建設 | P4: =IF(BH4=TRUE,"☑","□") -> □ | Q4: コンクリート | AA4: =IF(BI4=TRUE,"☑","□") -> □ | AB4: コンクリート及び鉄から成る建設資材 | BM4: =COUNTIF(BH4:BI5,TRUE)=0 -> TRUE | BN4: ・薄緑色で着色されたセルが入力対象です。
A5: 資材の種類 | P5: =IF(BH5=TRUE,"☑","□") -> □ | Q5: アスファルト・コンクリート | AJ5: =IF(BI5=TRUE,"☑","□") -> □ | AK5: 木材 | BN5: ・灰色の文字は入力例です。実際の内容を入力してください。
A6: 建築物 | F6: 建築物の状況 | P6: 築年数 | X6: 年、棟数 | AF6: 棟 | BM6: =AND(U6="",AD6="") -> TRUE | BN6: ・チェックボックスは、該当する項目にチェックを付けてください。
A7: に | P7: その他( | AR7: ) | BN7: ・入力が完了したセルは、自動的に着色が解除されます。
A8: 関する | F8: 周辺状況 | P8: 周辺にある施設 | Z8: =IF(BH8=TRUE,"☑","□") -> □ | AA8: 住宅 | AD8: =IF(BI8=TRUE,"☑","□") -> □ | AE8: 商業施設 | AK8: =IF(BJ8=TRUE,"☑","□") -> □ | AL8: 学校 | AO8: =IF(BK8=TRUE,"☑","□") -> □ | AP8: 病院 | AS8: =IF(BL8=TRUE,"☑","□") -> □ | AT8: その他( | BF8: ) | BM8: =COUNTIF(BH8:BL8,TRUE)=0 -> TRUE | BN8: ・エラーメッセージが表示された場合は、内容を修正してください。
A9: 調査の | P9: 敷地境界との最短距離 約 | AI9: ｍ | BM9: =IF(BL8=TRUE,AY8="") -> FALSE | BN9: ・右上に赤い印のあるセルを選択すると補足説明が表示されます。
A10: 結果 | P10: その他( | AR10: ) | BM10: =AND(AF9="") -> TRUE | BN10: ・無着色の「その他」及び「備考」欄は、必要に応じて入力してください。
P11: 建築物に関する調査の結果 | AN11: 工事着手前に実施する措置の内容
F12: 作業場所 | P12: 作業場所 | W12: =IF(BH12=TRUE,"☑","□") -> □ | X12: 十分 | AB12: =IF(BI12=TRUE,"☑","□") -> □ | AC12: 不十分 | AN12: 〈入力例〉隣地使用の承諾済、道路使用許可済 | BM12: =COUNTIF(BH12:BI12,TRUE)=0 -> TRUE | BN12: =IF(AND($BH$12=TRUE,$BI$12=TRUE),"【入力エラー】「十分」と「不十分」のいずれか一方をチェックしてください。","")
P13: その他( | AM13: ) | BM13: =AN12="〈入力例〉隣地使用の承諾済、道路使用許可済" -> TRUE
F14: 搬出経路 | P14: 障害物 | U14: =IF(BH14=TRUE,"☑","□") -> □ | V14: 有( | AE14: ) | AG14: =IF(BI14=TRUE,"☑","□") -> □ | AH14: 無 | AN14: 〈入力例〉交通整理員の常駐を計画、搬出用に２トントラックを準備 | BM14: =COUNTIF(BH14:BI14,TRUE)=0 -> TRUE | BN14: =IF(AND(BH14=TRUE,BI14=TRUE),"【入力エラー】「有」と「無」のいずれか一方をチェックしてください。","")
A15: 建築物 | P15: 前面道路の幅員 約 | AE15: ｍ | BM15: =IF(BH14=TRUE,X14="") -> FALSE
A16: に | P16: 通学路 | U16: =IF(BH16=TRUE,"☑","□") -> □ | V16: 有 | X16: =IF(BI16=TRUE,"☑","□") -> □ | Y16: 無 | BM16: =AND(AB15="") -> TRUE | BN16: =IF(AND(BH16=TRUE,BI16=TRUE),"【入力エラー】「有」と「無」のいずれか一方をチェックしてください。","")
A17: 関する | P17: その他( | AM17: ) | BM17: =COUNTIF(BH16:BI16,TRUE)=0 -> TRUE
A18: 調査の | F18: 特定建設資材へ | P18: =IF(BH18=TRUE,"☑","□") -> □ | Q18: 有 | AN18: 〈入力例〉飛散防止対策を行う | BM18: =AN14="〈入力例〉交通整理員の常駐を計画、搬出用に２トントラックを準備" -> TRUE | BN18: =IF(AND(BH18=TRUE,BI18=TRUE),"【入力エラー】「有」と「無」のいずれか一方をチェックしてください。","")
A19: 結果 | F19: の付着物 | P19: ( | AM19: ) | BM19: =IF(表紙!BH26=TRUE,COUNTIF(BH18:BI18,TRUE)=0,FALSE) -> FALSE
A20: 及び | F20: (修繕・模様替工事のみ) | P20: =IF(BI18=TRUE,"☑","□") -> □ | Q20: 無 | BM20: =IF(BH18=TRUE,Q19="") -> FALSE
A21: 工事 | BM21: =IF(BH18=TRUE,AN18="〈入力例〉飛散防止対策を行う") -> FALSE
A22: 着手前 | F22: 他法令関係(修繕・模様替工事のみ) | I22: 石綿 | P22: =IF(BH22=TRUE,"☑","□") -> □ | Q22: 有 | S22: 特定建設資材への付着( | AG22: =IF(BJ22=TRUE,"☑","□") -> □ | AH22: 有 | AJ22: =IF(BK22=TRUE,"☑","□") -> □ | AK22: 無 | AM22: ) | AN22: 〈入力例〉関係法令の届出済、石綿作業主任者を選任済 | BM22: =IF(表紙!BH26=TRUE,COUNTIF(BH22:BI22,TRUE)=0,FALSE) -> FALSE | BN22: =IF(AND(BJ22=TRUE,BK22=TRUE),"【入力エラー】「有」と「無」のいずれか一方をチェックしてください。","")
A23: に実施 | I23: (大気汚染防止法・安全衛生法石綿則) | Q23: =IF(BH23=TRUE,"☑","□") -> □ | R23: 吹付け石綿 | BM23: =IF(BH22=TRUE,COUNTIF(BJ22:BK22,TRUE)=0) -> FALSE
A24: する | Q24: =IF(BH24=TRUE,"☑","□") -> □ | R24: 石綿含有保温材、断熱材、耐火被覆材等 | BM24: =IF(BH22=TRUE,COUNTIF(BH23:BH26,TRUE)=0) -> FALSE
A25: 措置の | Q25: =IF(BH25=TRUE,"☑","□") -> □ | R25: 石綿含有成形板等 | BM25: =IF(BH22=TRUE,AN22="〈入力例〉関係法令の届出済、石綿作業主任者を選任済") -> FALSE
A26: 内容 | Q26: =IF(BH26=TRUE,"☑","□") -> □ | R26: 石綿含有仕上げ塗材
P27: =IF(BI22=TRUE,"☑","□") -> □ | Q27: 無 | BN27: =IF(AND(BH22=TRUE,BI22=TRUE),"【入力エラー】「有」と「無」のいずれか一方をチェックしてください。","")
I28: フロン | P28: =IF(BH28=TRUE,"☑","□") -> □ | Q28: 有 | S28: (業務用のエアコン・冷凍冷蔵機器 | AN28: 〈入力例〉フロン類回収済 | BM28: =IF(表紙!BH26=TRUE,COUNTIF(BH28:BI28,TRUE)=0,FALSE) -> FALSE | BN28: =IF(AND(BH28=TRUE,BI28=TRUE),"【入力エラー】「有」と「無」のいずれか一方をチェックしてください。","")
I29: (フロン排出 | Q29: のうちフロン類が使われているもの) | BM29: =IF(BH28=TRUE,AN28="〈入力例〉フロン類回収済") -> FALSE
I30: 抑制法) | P30: =IF(BI28=TRUE,"☑","□") -> □ | Q30: 無
F31: その他
A32: 工程ごとの作業内容 | C32: 工程 | X32: 作業内容
C33: ①造成等 | X33: 造成等の工事 | AH33: =IF(BH33=TRUE,"☑","□") -> □ | AI33: 有 | AL33: =IF(BI33=TRUE,"☑","□") -> □ | AM33: 無 | BM33: =COUNTIF(BH33:BI33,TRUE)=0 -> TRUE
BN34: =IF(AND(BH33=TRUE,BI33=TRUE),"【入力エラー】「有」と「無」のいずれか一方をチェックしてください。","")
C35: ②基礎・基礎ぐい | X35: 基礎・基礎ぐいの工事 | AM35: =IF(BH35=TRUE,"☑","□") -> □ | AN35: 有 | AQ35: =IF(BI35=TRUE,"☑","□") -> □ | AR35: 無 | BM35: =COUNTIF(BH35:BI35,TRUE)=0 -> TRUE
BN36: =IF(AND(BH35=TRUE,BI35=TRUE),"【入力エラー】「有」と「無」のいずれか一方をチェックしてください。","")
C37: ③上部構造部分・外装 | X37: 上部構造部分・外装の工事 | AP37: =IF(BH37=TRUE,"☑","□") -> □ | AQ37: 有 | AT37: =IF(BI37=TRUE,"☑","□") -> □ | AU37: 無 | BM37: =COUNTIF(BH37:BI37,TRUE)=0 -> TRUE
BN38: =IF(AND(BH37=TRUE,BI37=TRUE),"【入力エラー】「有」と「無」のいずれか一方をチェックしてください。","")
C39: ④屋根 | X39: 屋根の工事 | AG39: =IF(BH39=TRUE,"☑","□") -> □ | AH39: 有 | AK39: =IF(BI39=TRUE,"☑","□") -> □ | AL39: 無 | BM39: =COUNTIF(BH39:BI39,TRUE)=0 -> TRUE
BN40: =IF(AND(BH39=TRUE,BI39=TRUE),"【入力エラー】「有」と「無」のいずれか一方をチェックしてください。","")
C41: ⑤建築設備・内装等 | X41: 建築設備・内装等の工事 | AO41: =IF(BH41=TRUE,"☑","□") -> □ | AP41: 有 | AS41: =IF(BI41=TRUE,"☑","□") -> □ | AT41: 無 | BM41: =COUNTIF(BH41:BI41,TRUE)=0 -> TRUE
BN42: =IF(AND(BH41=TRUE,BI41=TRUE),"【入力エラー】「有」と「無」のいずれか一方をチェックしてください。","")
C43: ⑥その他 | X43: その他の工事 | AH43: =IF(BH43=TRUE,"☑","□") -> □ | AI43: 有 | AL43: =IF(BI43=TRUE,"☑","□") -> □ | AM43: 無 | BM43: =COUNTIF(BH43:BI43,TRUE)=0 -> TRUE
C44: ( | W44: ) | BM44: =IF(BH43=TRUE,D44="") -> FALSE | BN44: =IF(OR(AND(BJ43=TRUE,BK43=TRUE),AND(BH43=TRUE,BI43=TRUE)),"【入力エラー】「有」と「無」のいずれか一方をチェックしてください。","")
A45: 廃棄物発生見込量 | C45: 特定建設資材廃棄物の種類ごとの量の見込み並びに特定建設資材が使用される建築物の部分及び特定建設資材廃棄物の発生が見込まれる建築物の部分 | X45: 種類 | AI45: 量の見込み | AR45: 使用する部分又は 発生が見込まれる部分(注)
X47: コンクリート塊 | AR47: =IF(BH47=TRUE,"☑","□") -> □ | AS47: ① | AV47: =IF(BI47=TRUE,"☑","□") -> □ | AW47: ② | AZ47: =IF(BJ47=TRUE,"☑","□") -> □ | BA47: ③ | BD47: =IF(BK47=TRUE,"☑","□") -> □ | BE47: ④ | BM47: =AND(AI47="") -> TRUE
AO48: トン | AR48: =IF(BH48=TRUE,"☑","□") -> □ | AS48: ⑤ | AV48: =IF(BI48=TRUE,"☑","□") -> □ | AW48: ⑥ | BM48: =IF(AI47>0,COUNTIF(BH47:BK48,TRUE)=0) -> FALSE
X49: アスファルト・ | AR49: =IF(BH49=TRUE,"☑","□") -> □ | AS49: ① | AV49: =IF(BI49=TRUE,"☑","□") -> □ | AW49: ② | AZ49: =IF(BJ49=TRUE,"☑","□") -> □ | BA49: ③ | BD49: =IF(BK49=TRUE,"☑","□") -> □ | BE49: ④ | BM49: =AND(AI49="") -> TRUE
X50: コンクリート塊 | AO50: トン | AR50: =IF(BH50=TRUE,"☑","□") -> □ | AS50: ⑤ | AV50: =IF(BI50=TRUE,"☑","□") -> □ | AW50: ⑥ | BM50: =IF(AI49>0,COUNTIF(BH49:BK50,TRUE)=0) -> FALSE
X51: 建設発生木材 | AR51: =IF(BH51=TRUE,"☑","□") -> □ | AS51: ① | AV51: =IF(BI51=TRUE,"☑","□") -> □ | AW51: ② | AZ51: =IF(BJ51=TRUE,"☑","□") -> □ | BA51: ③ | BD51: =IF(BK51=TRUE,"☑","□") -> □ | BE51: ④ | BM51: =AND(AI51="") -> TRUE
AO52: トン | AR52: =IF(BH52=TRUE,"☑","□") -> □ | AS52: ⑤ | AV52: =IF(BI52=TRUE,"☑","□") -> □ | AW52: ⑥ | BM52: =IF(AI51>0,COUNTIF(BH51:BK52,TRUE)=0) -> FALSE
C53: (注) ①造成等 ②基礎 ③上部構造部分・外装 ④屋根 ⑤建築設備・内装等 ⑥その他
A54: 備考
A56: □欄には、該当箇所に「レ」を付すこと。
BM57: =IF(OR(表紙!BH25=TRUE,表紙!BH26=TRUE),COUNTIF(BM1:BM56,TRUE),0) -> 0

Sheet 別表3
A1: 別表３ | BF1: （Ａ４） | BN1: =COUNTIF(BO16:BO64,"*【入力エラー】*")>0 -> FALSE
U2: 建築物以外のものに係る解体工事又は新築工事等（土木工事等） | BN2: ↑エラーメッセージがある場合TRUE
A3: 分別解体等の計画等 | BO3: 【入力上の注意】
A4: 工作物の構造 (解体工事のみ) | P4: =IF(BH4=TRUE,"☑","□") -> □ | Q4: 鉄筋コンクリート造 | AD4: =IF(BI4=TRUE,"☑","□") -> □ | AE4: その他( | BF4: ) | BN4: =IF($BJ$6=TRUE,COUNTIF(BH4:BI4,TRUE)=0) -> FALSE | BO4: ・薄緑色で着色されたセルが入力対象です。
BN5: =IF($BJ$6=TRUE,IF(BI4=TRUE,AJ4="")) -> FALSE | BO5: ・灰色の文字は入力例です。実際の内容を入力してください。
A6: 工事の種類 | P6: =IF(BH6=TRUE,"☑","□") -> □ | Q6: 新築工事 | W6: =IF(BI6=TRUE,"☑","□") -> □ | X6: 維持・修繕工事 | AH6: =IF(BJ6=TRUE,"☑","□") -> □ | AI6: 解体工事 | BN6: =COUNTIF(BH6:BJ6,TRUE)=0 -> TRUE | BO6: ・チェックボックスは、該当する項目にチェックを付けてください。
P7: =IF(BH7=TRUE,"☑","□") -> □ | Q7: 電気 | U7: =IF(BI7=TRUE,"☑","□") -> □ | V7: 水道 | Z7: =IF(BJ7=TRUE,"☑","□") -> □ | AA7: ガス | AE7: =IF(BK7=TRUE,"☑","□") -> □ | AF7: 下水道 | AK7: =IF(BL7=TRUE,"☑","□") -> □ | AL7: 鉄道 | AP7: =IF(BM7=TRUE,"☑","□") -> □ | AQ7: 電話 | BN7: =COUNTIF(BH7:BM8,TRUE)=0 -> TRUE | BO7: ・入力が完了したセルは、自動的に着色が解除されます。
P8: =IF(BH8=TRUE,"☑","□") -> □ | Q8: その他( | AR8: ) | BN8: =IF(BH8=TRUE,V8="") -> FALSE | BO8: ・エラーメッセージが表示された場合は、内容を修正してください。
A9: 使用する特定建設資材の種類 | P9: =IF(BH9=TRUE,"☑","□") -> □ | Q9: コンクリート | AA9: =IF(BI9=TRUE,"☑","□") -> □ | AB9: コンクリート及び鉄から成る建設資材 | BN9: =IF(OR($BH$6=TRUE,$BI$6=TRUE),COUNTIF(BH9:BI10,TRUE)=0) -> FALSE | BO9: ・右上に赤い印のあるセルを選択すると補足説明が表示されます。
A10: (新築・維持・修繕工事のみ) | P10: =IF(BH10=TRUE,"☑","□") -> □ | Q10: アスファルト・コンクリート | AJ10: =IF(BI10=TRUE,"☑","□") -> □ | AK10: 木材 | BO10: ・無着色の「その他」及び「備考」欄は、必要に応じて入力してください。
A11: 工作物 | F11: 工作物の状況 | P11: 築年数 | X11: 年 | BN11: =AND(U11="",AD11="") -> TRUE
A12: に | P12: その他( | AR12: )
A13: 関する | F13: 周辺状況 | P13: 周辺にある施設 | Z13: =IF(BH13=TRUE,"☑","□") -> □ | AA13: 住宅 | AD13: =IF(BI13=TRUE,"☑","□") -> □ | AE13: 商業施設 | AK13: =IF(BJ13=TRUE,"☑","□") -> □ | AL13: 学校 | AO13: =IF(BK13=TRUE,"☑","□") -> □ | AP13: 病院 | AS13: =IF(BL13=TRUE,"☑","□") -> □ | AT13: その他( | BF13: ) | BN13: =COUNTIF(BH13:BL13,TRUE)=0 -> TRUE
A14: 調査の | P14: 敷地境界との最短距離 約 | AI14: ｍ | BN14: =IF(BL13=TRUE,AY13="") -> FALSE
A15: 結果 | P15: その他( | AR15: ) | BN15: =AND(AF14="") -> TRUE
P16: 工作物に関する調査の結果 | AN16: 工事着手前に実施する措置の内容
F17: 作業場所 | P17: 作業場所 | W17: =IF(BH17=TRUE,"☑","□") -> □ | X17: 十分 | AB17: =IF(BI17=TRUE,"☑","□") -> □ | AC17: 不十分 | AN17: 〈入力例〉隣地使用の承諾済、道路使用許可済 | BN17: =COUNTIF(BH17:BI17,TRUE)=0 -> TRUE | BO17: =IF(AND($BH$17=TRUE,$BI$17=TRUE),"【入力エラー】「十分」と「不十分」のいずれか一方をチェックしてください。","")
P18: その他( | AM18: ) | BN18: =AN17="〈入力例〉隣地使用の承諾済、道路使用許可済" -> TRUE
A19: 工作物 | F19: 搬出経路 | P19: 障害物 | U19: =IF(BH19=TRUE,"☑","□") -> □ | V19: 有( | AE19: ) | AG19: =IF(BI19=TRUE,"☑","□") -> □ | AH19: 無 | AN19: 〈入力例〉交通整理員の常駐を計画、搬出用に２トントラックを準備 | BN19: =COUNTIF(BH19:BI19,TRUE)=0 -> TRUE | BO19: =IF(AND(BH19=TRUE,BI19=TRUE),"【入力エラー】「有」と「無」のいずれか一方をチェックしてください。","")
A20: に | P20: 前面道路の幅員 約 | AE20: ｍ | BN20: =IF(BH19=TRUE,X19="") -> FALSE
A21: 関する | P21: 通学路 | U21: =IF(BH21=TRUE,"☑","□") -> □ | V21: 有 | X21: =IF(BI21=TRUE,"☑","□") -> □ | Y21: 無 | BN21: =AND(AB20="") -> TRUE | BO21: =IF(AND(BH21=TRUE,BI21=TRUE),"【入力エラー】「有」と「無」のいずれか一方をチェックしてください。","")
A22: 調査の | P22: その他( | AM22: ) | BN22: =COUNTIF(BH21:BI21,TRUE)=0 -> TRUE
A23: 結果 | F23: 特定建設資材へ | P23: =IF(BH23=TRUE,"☑","□") -> □ | Q23: 有 | AN23: 〈入力例〉飛散防止対策を行う | BN23: =AN19="〈入力例〉交通整理員の常駐を計画、搬出用に２トントラックを準備" -> TRUE | BO23: =IF(AND(BH23=TRUE,BI23=TRUE),"【入力エラー】「有」と「無」のいずれか一方をチェックしてください。","")
A24: 及び | F24: の付着物 | P24: ( | AM24: ) | BN24: =IF(OR($BI$6=TRUE,$BJ$6=TRUE),COUNTIF(BH23:BI23,TRUE)=0) -> FALSE
A25: 工事 | F25: (解体・維持・修繕工事のみ) | P25: =IF(BI23=TRUE,"☑","□") -> □ | Q25: 無 | BN25: =IF(OR($BI$6=TRUE,$BJ$6=TRUE),IF(BH23=TRUE,Q24="")) -> FALSE
A26: 着手前 | BN26: =IF(OR($BI$6=TRUE,$BJ$6=TRUE),IF(BH23=TRUE,AN23="〈入力例〉飛散防止対策を行う")) -> FALSE
A27: に実施 | F27: 他法令関係 (解体・維持・修繕工事のみ) | K27: 石綿 (大気汚染防止法・安全衛生法石綿則) | P27: =IF(BH27=TRUE,"☑","□") -> □ | Q27: 有 | S27: 特定建設資材への付着( | AG27: =IF(BJ27=TRUE,"☑","□") -> □ | AH27: 有 | AJ27: =IF(BK27=TRUE,"☑","□") -> □ | AK27: 無 | AM27: ) | AN27: 〈入力例〉関係法令の届出済、石綿作業主任者を選任済 | BN27: =IF(OR($BI$6=TRUE,$BJ$6=TRUE),COUNTIF(BH27:BI27,TRUE)=0) -> FALSE | BO27: =IF(AND(BJ27=TRUE,BK27=TRUE),"【入力エラー】「有」と「無」のいずれか一方をチェックしてください。","")
A28: する | Q28: =IF(BH28=TRUE,"☑","□") -> □ | R28: 吹付け石綿 | BN28: =IF(OR($BI$6=TRUE,$BJ$6=TRUE),IF(BH27=TRUE,COUNTIF(BJ27:BK27,TRUE)=0)) -> FALSE
A29: 措置の | Q29: =IF(BH29=TRUE,"☑","□") -> □ | R29: 石綿含有保温材、断熱材、耐火被覆材等 | BN29: =IF(OR($BI$6=TRUE,$BJ$6=TRUE),IF(BH27=TRUE,COUNTIF(BH28:BH31,TRUE)=0)) -> FALSE
A30: 内容 | Q30: =IF(BH30=TRUE,"☑","□") -> □ | R30: 石綿含有成形板等 | BN30: =IF(OR($BI$6=TRUE,$BJ$6=TRUE),IF(BH27=TRUE,AN27="〈入力例〉関係法令の届出済、石綿作業主任者を選任済")) -> FALSE
Q31: =IF(BH31=TRUE,"☑","□") -> □ | R31: 石綿含有仕上げ塗材
P32: =IF(BI27=TRUE,"☑","□") -> □ | Q32: 無 | BO32: =IF(AND(BH27=TRUE,BI27=TRUE),"【入力エラー】「有」と「無」のいずれか一方をチェックしてください。","")
F33: その他
A34: 工程ごとの作業内容及び解体方法 | C34: 工程 | X34: 作業内容 | AR34: 分別解体等の方法
AR35: (解体工事のみ)
C36: ①仮設 | X36: 仮設工事 | AR36: =IF(BH36=TRUE,"☑","□") -> □ | AS36: 手作業 | BN36: =IF($BJ$6=TRUE,IF(BH37=TRUE,COUNTIF(BH36:BI36,TRUE)=0)) -> FALSE | BO36: =IF(AND(BH36=TRUE,BI36=TRUE),"【入力エラー】「手作業」と「手作業・機械作業の併用」のいずれか一方をチェックしてください。","")
X37: =IF(BH37=TRUE,"☑","□") -> □ | Y37: 有 | AB37: =IF(BI37=TRUE,"☑","□") -> □ | AC37: 無 | AR37: =IF(BI36=TRUE,"☑","□") -> □ | AS37: 手作業・機械作業の併用 | BN37: =COUNTIF(BH37:BI37,TRUE)=0 -> TRUE | BO37: =IF(AND(BH37=TRUE,BI37=TRUE),"【入力エラー】「有」と「無」のいずれか一方をチェックしてください。","")
C38: ②土工 | X38: 土工事 | AR38: =IF(BH38=TRUE,"☑","□") -> □ | AS38: 手作業 | BN38: =IF($BJ$6=TRUE,IF(BH39=TRUE,COUNTIF(BH38:BI38,TRUE)=0)) -> FALSE | BO38: =IF(AND(BH38=TRUE,BI38=TRUE),"【入力エラー】「手作業」と「手作業・機械作業の併用」のいずれか一方をチェックしてください。","")
X39: =IF(BH39=TRUE,"☑","□") -> □ | Y39: 有 | AB39: =IF(BI39=TRUE,"☑","□") -> □ | AC39: 無 | AR39: =IF(BI38=TRUE,"☑","□") -> □ | AS39: 手作業・機械作業の併用 | BN39: =COUNTIF(BH39:BI39,TRUE)=0 -> TRUE | BO39: =IF(AND(BH39=TRUE,BI39=TRUE),"【入力エラー】「有」と「無」のいずれか一方をチェックしてください。","")
C40: ③基礎 | X40: 基礎工事 | AR40: =IF(BH40=TRUE,"☑","□") -> □ | AS40: 手作業 | BN40: =IF($BJ$6=TRUE,IF(BH41=TRUE,COUNTIF(BH40:BI40,TRUE)=0)) -> FALSE | BO40: =IF(AND(BH40=TRUE,BI40=TRUE),"【入力エラー】「手作業」と「手作業・機械作業の併用」のいずれか一方をチェックしてください。","")
X41: =IF(BH41=TRUE,"☑","□") -> □ | Y41: 有 | AB41: =IF(BI41=TRUE,"☑","□") -> □ | AC41: 無 | AR41: =IF(BI40=TRUE,"☑","□") -> □ | AS41: 手作業・機械作業の併用 | BN41: =COUNTIF(BH41:BI41,TRUE)=0 -> TRUE | BO41: =IF(AND(BH41=TRUE,BI41=TRUE),"【入力エラー】「有」と「無」のいずれか一方をチェックしてください。","")
C42: ④本体構造 | X42: 本体構造の工事 | AR42: =IF(BH42=TRUE,"☑","□") -> □ | AS42: 手作業 | BN42: =IF($BJ$6=TRUE,IF(BH43=TRUE,COUNTIF(BH42:BI42,TRUE)=0)) -> FALSE | BO42: =IF(AND(BH42=TRUE,BI42=TRUE),"【入力エラー】「手作業」と「手作業・機械作業の併用」のいずれか一方をチェックしてください。","")
X43: =IF(BH43=TRUE,"☑","□") -> □ | Y43: 有 | AB43: =IF(BI43=TRUE,"☑","□") -> □ | AC43: 無 | AR43: =IF(BI42=TRUE,"☑","□") -> □ | AS43: 手作業・機械作業の併用 | BN43: =COUNTIF(BH43:BI43,TRUE)=0 -> TRUE | BO43: =IF(AND(BH43=TRUE,BI43=TRUE),"【入力エラー】「有」と「無」のいずれか一方をチェックしてください。","")
C44: ⑤本体付属品 | X44: 本体付属品の工事 | AR44: =IF(BH44=TRUE,"☑","□") -> □ | AS44: 手作業 | BN44: =IF($BJ$6=TRUE,IF(BH45=TRUE,COUNTIF(BH44:BI44,TRUE)=0)) -> FALSE | BO44: =IF(AND(BH44=TRUE,BI44=TRUE),"【入力エラー】「手作業」と「手作業・機械作業の併用」のいずれか一方をチェックしてください。","")
X45: =IF(BH45=TRUE,"☑","□") -> □ | Y45: 有 | AB45: =IF(BI45=TRUE,"☑","□") -> □ | AC45: 無 | AR45: =IF(BI44=TRUE,"☑","□") -> □ | AS45: 手作業・機械作業の併用 | BN45: =COUNTIF(BH45:BI45,TRUE)=0 -> TRUE | BO45: =IF(AND(BH45=TRUE,BI45=TRUE),"【入力エラー】「有」と「無」のいずれか一方をチェックしてください。","")
C46: ⑥その他 | X46: その他の工事 | AR46: =IF(BH46=TRUE,"☑","□") -> □ | AS46: 手作業 | BN46: =IF($BJ$6=TRUE,IF(BH47=TRUE,COUNTIF(BH46:BI46,TRUE)=0)) -> FALSE | BO46: =IF(AND(BH46=TRUE,BI46=TRUE),"【入力エラー】「手作業」と「手作業・機械作業の併用」のいずれか一方をチェックしてください。","")
C47: ( | W47: ) | X47: =IF(BH47=TRUE,"☑","□") -> □ | Y47: 有 | AB47: =IF(BI47=TRUE,"☑","□") -> □ | AC47: 無 | AR47: =IF(BI46=TRUE,"☑","□") -> □ | AS47: 手作業・機械作業の併用 | BN47: =COUNTIF(BH47:BI47,TRUE)=0 -> TRUE | BO47: =IF(OR(AND(BJ46=TRUE,BK46=TRUE),AND(BH47=TRUE,BI47=TRUE)),"【入力エラー】「有」と「無」のいずれか一方をチェックしてください。","")
A48: 工事の工程の順序 | X48: =IF(BH48=TRUE,"☑","□") -> □ | Y48: 上の工程における⑤→④→③の順序 | BN48: =IF(BH47=TRUE,D47="") -> FALSE | BO48: =IF(AND(BH48=TRUE,BI48=TRUE),"【入力エラー】「上の工程…の順序」と「その他」のいずれか一方をチェックしてください。","")
A49: （解体工事のみ） | X49: =IF(BI48=TRUE,"☑","□") -> □ | Y49: その他( | AV49: ) | BN49: =IF($BJ$6=TRUE,COUNTIF(BH48:BI48,TRUE)=0) -> FALSE
X50: その他の場合の理由( | BF50: ) | BN50: =IF($BJ$6=TRUE,IF(BI48=TRUE,OR(AD49="",AK50=""))) -> FALSE
A51: 工作物に用いられた建設資材の量 | BN51: =IF($BJ$6=TRUE,AND(X51="")) -> FALSE
A52: の見込み（解体工事のみ） | AC52: トン
A53: 廃棄物発生見込量 | C53: 特定建設資材廃棄物の種類ごとの量の見込み(全工事)並びに特定建設資材が使用される工作物の部分(新築・維持・修繕工事のみ)及び特定建設資材廃棄物の発生が見込まれる工作物の部分(維持・修繕・解体工事のみ) | X53: 種類 | AI53: 量の見込み | AR53: 使用する部分又は 発生が見込まれる部分(注)
X55: コンクリート塊 | AR55: =IF(BH55=TRUE,"☑","□") -> □ | AS55: ① | AV55: =IF(BI55=TRUE,"☑","□") -> □ | AW55: ② | AZ55: =IF(BJ55=TRUE,"☑","□") -> □ | BA55: ③ | BD55: =IF(BK55=TRUE,"☑","□") -> □ | BE55: ④ | BN55: =AND(AI55="") -> TRUE
AO56: トン | AR56: =IF(BH56=TRUE,"☑","□") -> □ | AS56: ⑤ | AV56: =IF(BI56=TRUE,"☑","□") -> □ | AW56: ⑥ | BN56: =IF(AI55>0,COUNTIF(BH55:BK56,TRUE)=0) -> FALSE
X57: アスファルト・ | AR57: =IF(BH57=TRUE,"☑","□") -> □ | AS57: ① | AV57: =IF(BI57=TRUE,"☑","□") -> □ | AW57: ② | AZ57: =IF(BJ57=TRUE,"☑","□") -> □ | BA57: ③ | BD57: =IF(BK57=TRUE,"☑","□") -> □ | BE57: ④ | BN57: =AND(AI57="") -> TRUE
X58: コンクリート塊 | AO58: トン | AR58: =IF(BH58=TRUE,"☑","□") -> □ | AS58: ⑤ | AV58: =IF(BI58=TRUE,"☑","□") -> □ | AW58: ⑥ | BN58: =IF(AI57>0,COUNTIF(BH57:BK58,TRUE)=0) -> FALSE
X59: 建設発生木材 | AR59: =IF(BH59=TRUE,"☑","□") -> □ | AS59: ① | AV59: =IF(BI59=TRUE,"☑","□") -> □ | AW59: ② | AZ59: =IF(BJ59=TRUE,"☑","□") -> □ | BA59: ③ | BD59: =IF(BK59=TRUE,"☑","□") -> □ | BE59: ④ | BN59: =AND(AI59="") -> TRUE
AO60: トン | AR60: =IF(BH60=TRUE,"☑","□") -> □ | AS60: ⑤ | AV60: =IF(BI60=TRUE,"☑","□") -> □ | AW60: ⑥ | BN60: =IF(AI59>0,COUNTIF(BH59:BK60,TRUE)=0) -> FALSE
C61: (注) ①仮設 ②土工 ③基礎 ④本体構造 ⑤本体付属品 ⑥その他
A62: 備考
A64: □欄には、該当箇所に「レ」を付すこと。
BN65: =IF(表紙!BH28=TRUE,COUNTIF(BN1:BN64,TRUE),0) -> 0

Sheet 工程表
F1: =$C$3+ROUND((COLUMN()-COLUMN($F$1))*($T$3-$C$3)/61,0) -> #VALUE! | G1: =$C$3+ROUND((COLUMN()-COLUMN($F$1))*($T$3-$C$3)/61,0) -> #VALUE! | H1: =$C$3+ROUND((COLUMN()-COLUMN($F$1))*($T$3-$C$3)/61,0) -> #VALUE! | I1: =$C$3+ROUND((COLUMN()-COLUMN($F$1))*($T$3-$C$3)/61,0) -> #VALUE! | J1: =$C$3+ROUND((COLUMN()-COLUMN($F$1))*($T$3-$C$3)/61,0) -> #VALUE! | K1: =$C$3+ROUND((COLUMN()-COLUMN($F$1))*($T$3-$C$3)/61,0) -> #VALUE! | L1: =$C$3+ROUND((COLUMN()-COLUMN($F$1))*($T$3-$C$3)/61,0) -> #VALUE! | M1: =$C$3+ROUND((COLUMN()-COLUMN($F$1))*($T$3-$C$3)/61,0) -> #VALUE! | ... BO1: =$C$3+ROUND((COLUMN()-COLUMN($F$1))*($T$3-$C$3)/61,0) -> #VALUE!
A2: =IF(表紙!B55="別紙のとおり（別途作成した工程表を添付）","別途作成した工程表を添付（本シート作成不要）","工 程 表") -> 工 程 表 | BR2: =COUNTIF(BS2:BS34,"*【入力エラー】*")>0 -> FALSE
B3: 工事着手予定日： | C3: =IF(OR(表紙!$AU$55="",表紙!$AX$55="",表紙!$BA$55=""),"",DATE(表紙!$AU$55+2018,表紙!$AX$55,表紙!$BA$55)) | F3: 工事完了予定日： | T3: =IF(OR(表紙!$AU$56="",表紙!$AX$56="",表紙!$BA$56=""),"",DATE(表紙!$AU$56+2018,表紙!$AX$56,表紙!$BA$56)) | AL3: 工期日数： | AU3: =IF(OR(C3="",T3=""),"",T3-C3+1) | AY3: 日 | BR3: ↑エラーメッセージがある場合TRUE
B4: 作業内容 | C4: 開始予定日 | D4: ～ | E4: 終了予定日 | F4: =TEXT(F1,"m/d") -> #VALUE! | K4: =IF(AU3<=42,"",TEXT(K1,"m/d")) -> #VALUE! | P4: =IF(AU3<=6,"",TEXT(P1,"m/d")) -> #VALUE! | U4: =IF(AU3<=42,"",TEXT(U1,"m/d")) -> #VALUE! | Z4: =TEXT(Z1,"m/d") -> #VALUE! | AE4: =IF(AU3<=42,"",TEXT(AE1,"m/d")) -> #VALUE! | AJ4: =IF(AU3<=6,"",TEXT(AJ1,"m/d")) -> #VALUE! | AO4: =IF(AU3<=42,"",TEXT(AO1,"m/d")) -> #VALUE! | AT4: =TEXT(AT1,"m/d") -> #VALUE! | AY4: =IF(AU3<=42,"",TEXT(AY1,"m/d")) -> #VALUE! | BD4: =IF(AU3<=6,"",TEXT(BD1,"m/d")) -> #VALUE! | BI4: =IF(AU3<=42,"",TEXT(BI1,"m/d")) -> #VALUE! | BO4: =TEXT(BO1,"m/d") -> #VALUE!
A5: 1 | B5: 養生シート等の設置 | C5: =C3 | D5: ～ | BP5: =COUNTIFS($F$1:$BO$1,">="&$C5,$F$1:$BO$1,"<="&$E5) -> 0 | BR5: =IF(NOT(B5=""),OR(C5="",E5="")) -> TRUE | BS5: =IF(OR(E5="",E5>=C5),"","【入力エラー】終了予定日は開始予定日以降としてください。")
A7: 2 | B7: 重機の搬入 | D7: ～ | BP7: =COUNTIFS($F$1:$BO$1,">="&$C7,$F$1:$BO$1,"<="&$E7) -> 0 | BR7: =IF(NOT(B7=""),OR(C7="",E7="")) -> TRUE | BS7: =IF(OR(E7="",E7>=C7),"","【入力エラー】終了予定日は開始予定日以降としてください。")
A9: 3 | B9: 障害物の撤去 | D9: ～ | BP9: =COUNTIFS($F$1:$BO$1,">="&$C9,$F$1:$BO$1,"<="&$E9) -> 0 | BR9: =IF(NOT(B9=""),OR(C9="",E9="")) -> TRUE | BS9: =IF(OR(E9="",E9>=C9),"","【入力エラー】終了予定日は開始予定日以降としてください。")
A11: 4 | B11: 建具、畳等の撤去 | D11: ～ | BP11: =COUNTIFS($F$1:$BO$1,">="&$C11,$F$1:$BO$1,"<="&$E11) -> 0 | BR11: =IF(NOT(B11=""),OR(C11="",E11="")) -> TRUE | BS11: =IF(OR(E11="",E11>=C11),"","【入力エラー】終了予定日は開始予定日以降としてください。")
A13: 5 | B13: 石膏ボードの手壊し | D13: ～ | BP13: =COUNTIFS($F$1:$BO$1,">="&$C13,$F$1:$BO$1,"<="&$E13) -> 0 | BR13: =IF(NOT(B13=""),OR(C13="",E13="")) -> TRUE | BS13: =IF(OR(E13="",E13>=C13),"","【入力エラー】終了予定日は開始予定日以降としてください。")
A15: 6 | B15: 手作業による瓦降し | D15: ～ | BP15: =COUNTIFS($F$1:$BO$1,">="&$C15,$F$1:$BO$1,"<="&$E15) -> 0 | BR15: =IF(NOT(B15=""),OR(C15="",E15="")) -> TRUE | BS15: =IF(OR(E15="",E15>=C15),"","【入力エラー】終了予定日は開始予定日以降としてください。")
A17: 7 | B17: 機械併用の上屋解体 | D17: ～ | BP17: =COUNTIFS($F$1:$BO$1,">="&$C17,$F$1:$BO$1,"<="&$E17) -> 0 | BR17: =IF(NOT(B17=""),OR(C17="",E17="")) -> TRUE | BS17: =IF(OR(E17="",E17>=C17),"","【入力エラー】終了予定日は開始予定日以降としてください。")
A19: 8 | B19: 木材等の積込・搬出 | D19: ～ | BP19: =COUNTIFS($F$1:$BO$1,">="&$C19,$F$1:$BO$1,"<="&$E19) -> 0 | BR19: =IF(NOT(B19=""),OR(C19="",E19="")) -> TRUE | BS19: =IF(OR(E19="",E19>=C19),"","【入力エラー】終了予定日は開始予定日以降としてください。")
A21: 9 | B21: 混廃の積込・搬出 | D21: ～ | BP21: =COUNTIFS($F$1:$BO$1,">="&$C21,$F$1:$BO$1,"<="&$E21) -> 0 | BR21: =IF(NOT(B21=""),OR(C21="",E21="")) -> TRUE | BS21: =IF(OR(E21="",E21>=C21),"","【入力エラー】終了予定日は開始予定日以降としてください。")
A23: 10 | B23: 基礎・土間の解体 | D23: ～ | BP23: =COUNTIFS($F$1:$BO$1,">="&$C23,$F$1:$BO$1,"<="&$E23) -> 0 | BR23: =IF(NOT(B23=""),OR(C23="",E23="")) -> TRUE | BS23: =IF(OR(E23="",E23>=C23),"","【入力エラー】終了予定日は開始予定日以降としてください。")
A25: 11 | B25: コン塊の積込・搬出 | D25: ～ | BP25: =COUNTIFS($F$1:$BO$1,">="&$C25,$F$1:$BO$1,"<="&$E25) -> 0 | BR25: =IF(NOT(B25=""),OR(C25="",E25="")) -> TRUE | BS25: =IF(OR(E25="",E25>=C25),"","【入力エラー】終了予定日は開始予定日以降としてください。")
A27: 12 | B27: 養生シート等の撤去 | D27: ～ | BP27: =COUNTIFS($F$1:$BO$1,">="&$C27,$F$1:$BO$1,"<="&$E27) -> 0 | BR27: =IF(NOT(B27=""),OR(C27="",E27="")) -> TRUE | BS27: =IF(OR(E27="",E27>=C27),"","【入力エラー】終了予定日は開始予定日以降としてください。")
A29: 13 | B29: 整地・完了 | D29: ～ | E29: =T3 | BP29: =COUNTIFS($F$1:$BO$1,">="&$C29,$F$1:$BO$1,"<="&$E29) -> 0 | BR29: =IF(NOT(B29=""),OR(C29="",E29="")) -> TRUE | BS29: =IF(OR(E29="",E29>=C29),"","【入力エラー】終了予定日は開始予定日以降としてください。")
A31: 14 | D31: ～ | BP31: =COUNTIFS($F$1:$BO$1,">="&$C31,$F$1:$BO$1,"<="&$E31) -> 0 | BR31: =IF(NOT(B31=""),OR(C31="",E31="")) -> FALSE | BS31: =IF(OR(E31="",E31>=C31),"","【入力エラー】終了予定日は開始予定日以降としてください。")
A33: 15 | D33: ～ | BP33: =COUNTIFS($F$1:$BO$1,">="&$C33,$F$1:$BO$1,"<="&$E33) -> 0 | BR33: =IF(NOT(B33=""),OR(C33="",E33="")) -> FALSE | BS33: =IF(OR(E33="",E33>=C33),"","【入力エラー】終了予定日は開始予定日以降としてください。")
B36: 【作業内容・期間の入力について】 | BR36: =IF(表紙!B55="別紙のとおり（本ファイルの工程表シートを使用）",COUNTIF(BR2:BR34,TRUE),0) -> 0
B37: ・作業内容欄には、瓦葺き木造住宅解体工事の標準的な作業工程を参考表示しています。
B38: ・作業内容はプルダウンから選択できるほか、工事内容に応じて自由に入力・修正できます。
B39: ・作業内容がある行は、作業の開始予定日及び終了予定日を入力してください。
B40: ・入力した期間に応じて、工程表（バーチャート）が自動で作成されます。
B41: ・作業内容が15項目を超える場合は、類似する作業をまとめるなどして15項目以内で入力してください。

Sheet 台帳転記
A1: 台帳転記用シート
A2: 枝番号 | B2: 届出形式 | C2: 受付年月日 | F2: 属性 | G2: 届出年月日 | J2: 発注者又は自主施工者 | L2: 工事の概要 | R2: 建築物の構造 | S2: 元請業者 | U2: 工程の概要 | AA2: 工事の概要(その他) | AC2: 廃棄物発生材見込量(トン) | AF2: 石綿 | AH2: フロン | AJ2: 備考
C3: 年 | D3: 月 | E3: 日 | G3: 年 | H3: 月 | I3: 日 | J3: 氏名 | K3: 住所 | L3: 工事の名称 | M3: 工事の場所 | O3: 工事の種類 | P3: 工事の規模 | S3: 氏名 | T3: 住所 | U3: 工事着手予定日 | X3: 工事完了予定日 | AA3: 工事の規模 | AC3: コンクリート塊 | AD3: ｱｽﾌｧﾙﾄ・ｺﾝｸﾘｰﾄ塊 | AE3: 建設発生木材 | AF3: 有無 | AH3: 有無
M4: 市町村 | N4: 地名地番 | P4: 階数 | Q4: 工事対象床面積の合計(㎡) | U4: 年 | V4: 月 | W4: 日 | X4: 年 | Y4: 月 | Z4: 日 | AA4: 用途 | AB4: 請負代金(万円)
B5: 電子 | C5: =表紙!$AV$5 -> 0 | D5: =表紙!$AY$5 -> 0 | E5: =表紙!$BB$5 -> 0 | G5: =表紙!$AV$5 -> 0 | H5: =表紙!$AY$5 -> 0 | I5: =表紙!$BB$5 -> 0 | J5: =表紙!AD10 -> 〈法人の場合〉○○株式会社 代表取締役 岐阜 太郎 〈個人の場合〉岐阜 太郎 | K5: =表紙!AD13 -> ○○県△▽市●○3-4-5 | L5: =表紙!J21 -> ○○住宅解体工事 | M5: =表紙!J22 -> 〈市町村名〉 | N5: =表紙!R22 -> ○▲2-3-4 | O5: =表紙!D24 -> 建築物に係る解体工事 | P5: =表紙!AI24 -> 0 | Q5: =表紙!AX24 -> 0 | R5: =_xlfn.TEXTJOIN("、",TRUE,IF(別表1!BH4,"木造",""),IF(別表1!BI4,"鉄骨鉄筋コンクリート造",""),IF(別表1!BJ4,"鉄筋コンクリート造",""),IF(別表1!BH5,"鉄骨造",""),IF(別表1!BI5,"コンクリートブロック造",""),IF(別表1!BJ5,別表1!AT5,"")) | S5: =IF(表紙!$BH$30=TRUE,"自主施工",表紙!$X$33) -> 有限会社○×工業 代表取締役 岐阜 次郎 | T5: =IF(表紙!$BH$30=TRUE,"―",表紙!$G$35) -> ○○県△▽市●○3-4-5 | U5: =表紙!AU55 -> 0 | V5: =表紙!AX55 -> 0 | W5: =表紙!BA55 -> 0 | X5: =表紙!AU56 -> 0 | Y5: =表紙!AX56 -> 0 | Z5: =表紙!BA56 -> 0 | AA5: =表紙!W24 -> 0 | AB5: ― | AC5: =別表1!AI55 -> 0 | AD5: =別表1!AI57 -> 0 | AE5: =別表1!AI59 -> 0 | AF5: =IF(別表1!BH22=TRUE,"有","無") -> 無 | AH5: =IF(別表1!BH28=TRUE,"有","無") -> 無 | AJ5: =IF(表紙!$BH$3=2,表紙!$R$61&":"&表紙!$AC$61&表紙!$AD$61&表紙!$AF$61&表紙!$AG$61&表紙!$AI$61&表紙!$AJ$61&表紙!$AL$61&"、"&表紙!$R$62&"："&表紙!$W$62,"")
B6: 電子 | C6: =表紙!$AV$5 -> 0 | D6: =表紙!$AY$5 -> 0 | E6: =表紙!$BB$5 -> 0 | G6: =表紙!$AV$5 -> 0 | H6: =表紙!$AY$5 -> 0 | I6: =表紙!$BB$5 -> 0 | J6: =表紙!AD10 -> 〈法人の場合〉○○株式会社 代表取締役 岐阜 太郎 〈個人の場合〉岐阜 太郎 | K6: =表紙!AD13 -> ○○県△▽市●○3-4-5 | L6: =表紙!J21 -> ○○住宅解体工事 | M6: =表紙!J22 -> 〈市町村名〉 | N6: =表紙!R22 -> ○▲2-3-4 | O6: =表紙!D25 -> 建築物に係る新築又は増築の工事 | P6: =表紙!AI25 -> 0 | Q6: =表紙!AX25 -> 0 | R6: ― | S6: =IF(表紙!$BH$30=TRUE,"自主施工",表紙!$X$33) -> 有限会社○×工業 代表取締役 岐阜 次郎 | T6: =IF(表紙!$BH$30=TRUE,"―",表紙!$G$35) -> ○○県△▽市●○3-4-5 | U6: =表紙!AU55 -> 0 | V6: =表紙!AX55 -> 0 | W6: =表紙!BA55 -> 0 | X6: =表紙!AU56 -> 0 | Y6: =表紙!AX56 -> 0 | Z6: =表紙!BA56 -> 0 | AA6: =表紙!W25 -> 0 | AB6: ― | AC6: =別表2!$AI$47 -> 0 | AD6: =別表2!$AI$49 -> 0 | AE6: =別表2!$AI$51 -> 0 | AF6: ― | AH6: ― | AJ6: =IF(表紙!$BH$3=2,表紙!$R$61&":"&表紙!$AC$61&表紙!$AD$61&表紙!$AF$61&表紙!$AG$61&表紙!$AI$61&表紙!$AJ$61&表紙!$AL$61&"、"&表紙!$R$62&"："&表紙!$W$62,"")
B7: 電子 | C7: =表紙!$AV$5 -> 0 | D7: =表紙!$AY$5 -> 0 | E7: =表紙!$BB$5 -> 0 | G7: =表紙!$AV$5 -> 0 | H7: =表紙!$AY$5 -> 0 | I7: =表紙!$BB$5 -> 0 | J7: =表紙!AD10 -> 〈法人の場合〉○○株式会社 代表取締役 岐阜 太郎 〈個人の場合〉岐阜 太郎 | K7: =表紙!AD13 -> ○○県△▽市●○3-4-5 | L7: =表紙!J21 -> ○○住宅解体工事 | M7: =表紙!J22 -> 〈市町村名〉 | N7: =表紙!R22 -> ○▲2-3-4 | O7: =表紙!D26 -> 建築物に係る新築工事等であって新築又は増築の工事に該当しないもの | P7: =表紙!AI27 -> 0 | Q7: ― | R7: ― | S7: =IF(表紙!$BH$30=TRUE,"自主施工",表紙!$X$33) -> 有限会社○×工業 代表取締役 岐阜 次郎 | T7: =IF(表紙!$BH$30=TRUE,"―",表紙!$G$35) -> ○○県△▽市●○3-4-5 | U7: =表紙!AU55 -> 0 | V7: =表紙!AX55 -> 0 | W7: =表紙!BA55 -> 0 | X7: =表紙!AU56 -> 0 | Y7: =表紙!AX56 -> 0 | Z7: =表紙!BA56 -> 0 | AA7: =表紙!W27 -> 0 | AB7: =表紙!AR27 -> 0 | AC7: =別表2!$AI$47 -> 0 | AD7: =別表2!$AI$49 -> 0 | AE7: =別表2!$AI$51 -> 0 | AF7: =IF(別表2!BH22=TRUE,"有","無") -> 無 | AH7: =IF(別表2!BH28=TRUE,"有","無") -> 無 | AJ7: =IF(表紙!$BH$3=2,表紙!$R$61&":"&表紙!$AC$61&表紙!$AD$61&表紙!$AF$61&表紙!$AG$61&表紙!$AI$61&表紙!$AJ$61&表紙!$AL$61&"、"&表紙!$R$62&"："&表紙!$W$62,"")
B8: 電子 | C8: =表紙!$AV$5 -> 0 | D8: =表紙!$AY$5 -> 0 | E8: =表紙!$BB$5 -> 0 | G8: =表紙!$AV$5 -> 0 | H8: =表紙!$AY$5 -> 0 | I8: =表紙!$BB$5 -> 0 | J8: =表紙!AD10 -> 〈法人の場合〉○○株式会社 代表取締役 岐阜 太郎 〈個人の場合〉岐阜 太郎 | K8: =表紙!AD13 -> ○○県△▽市●○3-4-5 | L8: =表紙!J21 -> ○○住宅解体工事 | M8: =表紙!J22 -> 〈市町村名〉 | N8: =表紙!R22 -> ○▲2-3-4 | O8: =表紙!D28 -> 建築物以外のものに係る解体工事又は新築工事等 | P8: ― | Q8: ― | R8: ― | S8: =IF(表紙!$BH$30=TRUE,"自主施工",表紙!$X$33) -> 有限会社○×工業 代表取締役 岐阜 次郎 | T8: =IF(表紙!$BH$30=TRUE,"―",表紙!$G$35) -> ○○県△▽市●○3-4-5 | U8: =表紙!AU55 -> 0 | V8: =表紙!AX55 -> 0 | W8: =表紙!BA55 -> 0 | X8: =表紙!AU56 -> 0 | Y8: =表紙!AX56 -> 0 | Z8: =表紙!BA56 -> 0 | AA8: ― | AB8: =表紙!AR28 -> 0 | AC8: =別表3!AI55 -> 0 | AD8: =別表3!AI57 -> 0 | AE8: =別表3!AI59 -> 0 | AF8: =IF(別表3!BH27=TRUE,"有","無") -> 無 | AH8: ― | AJ8: =IF(表紙!$BH$3=2,表紙!$R$61&":"&表紙!$AC$61&表紙!$AD$61&表紙!$AF$61&表紙!$AG$61&表紙!$AI$61&表紙!$AJ$61&表紙!$AL$61&"、"&表紙!$R$62&"："&表紙!$W$62,"")
A10: 【台帳作成時の注意】
A11: ・工事の種類ごとに行を分けています（表示行のみ転記）。
A12: ・台帳への転記は「Ctrl」＋「Shift」＋「V」（値の貼り付け）で行ってください。
A13: ・工事の種類が複数ある場合は、工事種類ごとに別の行へ転記し、枝番号は同一としてください。
A14: ・属性（法人・個人）は台帳上で選択してください。
A15: ・県域統合型GISリンク用URLはLoGoフォームから転記してください。

Sheet プルダウンリスト・更新履歴
A1: プルダウンリスト | S1: 更新履歴
A2: 様式 | B2: 宛先 | C2: 年号 | D2: 年 | E2: 月 | F2: 届出日 | G2: 説明日 | H2: 着手日 | I2: 完了日 | J2: 当初届出日 | K2: 市町村名 | L2: 建設業許可 | M2: 区分 | N2: 年 | O2: 建設業許可業種 | P2: 工程の概要 | Q2: 作業内容 | S2: 年月日 | T2: 担当課・係 | U2: 内容
A3: 届 出 書 | B3: 岐阜県知事 | C3: 令和 | D3: 8 | E3: 1 | F3: 1 | G3: 1 | H3: 1 | I3: 1 | J3: 1 | K3: 高山市 | L3: 国土交通 | M3: 般 | N3: =IF(表紙!$AV$5-5=-5,"",表紙!$AV$5-5) | O3: 解体 | P3: 別紙のとおり（本ファイルの工程表シートを使用） | Q3: 養生シート等の設置 | S3: 46283 | T3: 建築指導課建築指導係 | U3: 新規リリース
A4: 変 更 届 出 書 | D4: 9 | E4: 2 | F4: 2 | G4: 2 | H4: 2 | I4: 2 | J4: 2 | K4: 多治見市 | L4: 岐阜県 | M4: 特 | N4: =IF(表紙!$AV$5-5=-5,"",N3+1) | O4: 土木 | P4: 別紙のとおり（別途作成した工程表を添付） | Q4: 重機の搬入 | S4: 46300 | T4: 建築指導課建築指導係 | U4: 表紙シートに書面申請用チェックボックスを追加
A5: 報 告 書 | D5: 10 | E5: 3 | F5: 3 | G5: 3 | H5: 3 | I5: 3 | J5: 3 | K5: 関市 | L5: 愛知県 | N5: =IF(表紙!$AV$5-5=-5,"",N4+1) | O5: 建築 | Q5: 障害物の撤去
D6: 11 | E6: 4 | F6: 4 | G6: 4 | H6: 4 | I6: 4 | J6: 4 | K6: 中津川市 | L6: 三重県 | N6: =IF(表紙!$AV$5-5=-5,"",N5+1) | O6: 大工 | Q6: 建具、畳等の撤去
D7: 12 | E7: 5 | F7: 5 | G7: 5 | H7: 5 | I7: 5 | J7: 5 | K7: 美濃市 | L7: 静岡県 | N7: =IF(表紙!$AV$5-5=-5,"",N6+1) | O7: 左官 | Q7: 石膏ボードの手壊し
D8: 13 | E8: 6 | F8: 6 | G8: 6 | H8: 6 | I8: 6 | J8: 6 | K8: 瑞浪市 | L8: 北海道 | N8: =IF(表紙!$AV$5-5=-5,"",N7+1) | O8: とび・土工 | Q8: 手作業による瓦降し
D9: 14 | E9: 7 | F9: 7 | G9: 7 | H9: 7 | I9: 7 | J9: 7 | K9: 羽島市 | L9: 青森県 | O9: 石 | Q9: 機械併用の上屋解体
D10: 15 | E10: 8 | F10: 8 | G10: 8 | H10: 8 | I10: 8 | J10: 8 | K10: 恵那市 | L10: 岩手県 | O10: 屋根 | Q10: 木材等の積込・搬出
D11: 16 | E11: 9 | F11: 9 | G11: 9 | H11: 9 | I11: 9 | J11: 9 | K11: 美濃加茂市 | L11: 宮城県 | O11: 電気 | Q11: 混廃の積込・搬出
D12: 17 | E12: 10 | F12: 10 | G12: 10 | H12: 10 | I12: 10 | J12: 10 | K12: 土岐市 | L12: 秋田県 | O12: 管 | Q12: 基礎・土間の解体
D13: 18 | E13: 11 | F13: 11 | G13: 11 | H13: 11 | I13: 11 | J13: 11 | K13: 可児市 | L13: 山形県 | O13: タイル・れんが・ブロック | Q13: コン塊の積込・搬出
D14: 19 | E14: 12 | F14: 12 | G14: 12 | H14: 12 | I14: 12 | J14: 12 | K14: 山県市 | L14: 福島県 | O14: 鋼構造物 | Q14: 養生シート等の撤去
D15: 20 | F15: 13 | G15: 13 | H15: 13 | I15: 13 | J15: 13 | K15: 瑞穂市 | L15: 茨城県 | O15: 鉄筋 | Q15: 整地・完了
D16: 21 | F16: 14 | G16: 14 | H16: 14 | I16: 14 | J16: 14 | K16: 飛騨市 | L16: 栃木県 | O16: 舗装
D17: 22 | F17: 15 | G17: 15 | H17: 15 | I17: 15 | J17: 15 | K17: 本巣市 | L17: 群馬県 | O17: しゅんせつ
D18: 23 | F18: 16 | G18: 16 | H18: 16 | I18: 16 | J18: 16 | K18: 郡上市 | L18: 埼玉県 | O18: 板金
D19: 24 | F19: 17 | G19: 17 | H19: 17 | I19: 17 | J19: 17 | K19: 下呂市 | L19: 千葉県 | O19: ガラス
D20: 25 | F20: 18 | G20: 18 | H20: 18 | I20: 18 | J20: 18 | K20: 海津市 | L20: 東京都 | O20: 塗装
D21: 26 | F21: 19 | G21: 19 | H21: 19 | I21: 19 | J21: 19 | K21: 羽島郡岐南町 | L21: 神奈川県 | O21: 防水
D22: 27 | F22: 20 | G22: 20 | H22: 20 | I22: 20 | J22: 20 | K22: 羽島郡笠松町 | L22: 新潟県 | O22: 内装仕上
D23: 28 | F23: 21 | G23: 21 | H23: 21 | I23: 21 | J23: 21 | K23: 養老郡養老町 | L23: 富山県 | O23: 機械器具設置
D24: 29 | F24: 22 | G24: 22 | H24: 22 | I24: 22 | J24: 22 | K24: 不破郡垂井町 | L24: 石川県 | O24: 熱絶縁
D25: 30 | F25: 23 | G25: 23 | H25: 23 | I25: 23 | J25: 23 | K25: 不破郡関ケ原町 | L25: 福井県 | O25: 電気通信
D26: 31 | F26: 24 | G26: 24 | H26: 24 | I26: 24 | J26: 24 | K26: 安八郡神戸町 | L26: 山梨県 | O26: 造園
D27: 32 | F27: 25 | G27: 25 | H27: 25 | I27: 25 | J27: 25 | K27: 安八郡輪之内町 | L27: 長野県 | O27: さく井
... D30: 35 | F30: 28 | G30: 28 | H30: 28 | I30: 28 | J30: 28 | K30: 揖斐郡大野町 | L30: 大阪府 | O30: 消防施設
D31: 36 | F31: =IF(DAY(EOMONTH(DATE(表紙!$AV$5+2018,表紙!$AY$5,1),0))>=29,29,"") -> 29 | G31: =IF(DAY(EOMONTH(DATE(表紙!$G$46+2018,表紙!$J$46,1),0))>=29,29,"") -> 29 | H31: =IF(DAY(EOMONTH(DATE(表紙!$AU$55+2018,表紙!$AX$55,1),0))>=29,29,"") -> 29 | I31: =IF(DAY(EOMONTH(DATE(表紙!$AU$56+2018,表紙!$AX$56,1),0))>=29,29,"") -> 29 | J31: =IF(DAY(EOMONTH(DATE(表紙!$AD$61+2018,表紙!$AG$61,1),0))>=29,29,"") -> 29 | K31: 揖斐郡池田町 | L31: 兵庫県 | O31: 清掃施設
D32: 37 | F32: =IF(DAY(EOMONTH(DATE(表紙!$AV$5+2018,表紙!$AY$5,1),0))>=30,30,"") -> 30 | G32: =IF(DAY(EOMONTH(DATE(表紙!$G$46+2018,表紙!$J$46,1),0))>=30,30,"") -> 30 | H32: =IF(DAY(EOMONTH(DATE(表紙!$AU$55+2018,表紙!$AX$55,1),0))>=30,30,"") -> 30 | I32: =IF(DAY(EOMONTH(DATE(表紙!$AU$56+2018,表紙!$AX$56,1),0))>=30,30,"") -> 30 | J32: =IF(DAY(EOMONTH(DATE(表紙!$AD$61+2018,表紙!$AG$61,1),0))>=30,30,"") -> 30 | K32: 本巣郡北方町 | L32: 奈良県
D33: 38 | F33: =IF(DAY(EOMONTH(DATE(表紙!$AV$5+2018,表紙!$AY$5,1),0))>=31,31,"") -> 31 | G33: =IF(DAY(EOMONTH(DATE(表紙!$G$46+2018,表紙!$J$46,1),0))>=31,31,"") -> 31 | H33: =IF(DAY(EOMONTH(DATE(表紙!$AU$55+2018,表紙!$AX$55,1),0))>=31,31,"") -> 31 | I33: =IF(DAY(EOMONTH(DATE(表紙!$AU$56+2018,表紙!$AX$56,1),0))>=31,31,"") -> 31 | J33: =IF(DAY(EOMONTH(DATE(表紙!$AD$61+2018,表紙!$AG$61,1),0))>=31,31,"") -> 31 | K33: 加茂郡坂祝町 | L33: 和歌山県
D34: 39 | K34: 加茂郡富加町 | L34: 鳥取県
D35: 40 | K35: 加茂郡川辺町 | L35: 島根県
K36: 加茂郡七宗町 | L36: 岡山県
K37: 加茂郡八百津町 | L37: 広島県
K38: 加茂郡白川町 | L38: 山口県
K39: 加茂郡東白川村 | L39: 徳島県
K40: 可児郡御嵩町 | L40: 香川県
K41: 大野郡白川村 | L41: 愛媛県
L42: 高知県
L43: 福岡県
L44: 佐賀県
L45: 長崎県
L46: 熊本県
L47: 大分県
L48: 宮崎県
L49: 鹿児島県
L50: 沖縄県
